BEGIN:VCALENDAR
VERSION:2.0
PRODID:-//Fourth Avenue Bible Church - ECPv5.3.1.1//NONSGML v1.0//EN
CALSCALE:GREGORIAN
METHOD:PUBLISH
X-WR-CALNAME:Fourth Avenue Bible Church
X-ORIGINAL-URL:https://fabchurch.ca
X-WR-CALDESC:Events for Fourth Avenue Bible Church
BEGIN:VTIMEZONE
TZID:America/Winnipeg
BEGIN:DAYLIGHT
TZOFFSETFROM:-0600
TZOFFSETTO:-0500
TZNAME:CDT
DTSTART:20230312T080000
END:DAYLIGHT
BEGIN:STANDARD
TZOFFSETFROM:-0500
TZOFFSETTO:-0600
TZNAME:CST
DTSTART:20231105T070000
END:STANDARD
END:VTIMEZONE
BEGIN:VEVENT
DTSTART;TZID=America/Winnipeg:20231115T190000
DTEND;TZID=America/Winnipeg:20231115T210000
DTSTAMP:20260420T225208
CREATED:20231109T165649Z
LAST-MODIFIED:20231109T165856Z
UID:1144-1700074800-1700082000@fabchurch.ca
SUMMARY:Jr. Youth - Bible Study & Games
DESCRIPTION:Join us as we look through the book of Proverbs to see what it says about the choices we make.
URL:https://fabchurch.ca/index.php/event/__trashed/
CATEGORIES:Jr. Youth
END:VEVENT
END:VCALENDAR