BEGIN:VCALENDAR
VERSION:2.0
PRODID:-//Fourth Avenue Bible Church - ECPv5.3.1.1//NONSGML v1.0//EN
CALSCALE:GREGORIAN
METHOD:PUBLISH
X-WR-CALNAME:Fourth Avenue Bible Church
X-ORIGINAL-URL:https://fabchurch.ca
X-WR-CALDESC:Events for Fourth Avenue Bible Church
BEGIN:VTIMEZONE
TZID:America/Winnipeg
BEGIN:DAYLIGHT
TZOFFSETFROM:-0600
TZOFFSETTO:-0500
TZNAME:CDT
DTSTART:20230312T080000
END:DAYLIGHT
BEGIN:STANDARD
TZOFFSETFROM:-0500
TZOFFSETTO:-0600
TZNAME:CST
DTSTART:20231105T070000
END:STANDARD
END:VTIMEZONE
BEGIN:VEVENT
DTSTART;TZID=America/Winnipeg:20230712T190000
DTEND;TZID=America/Winnipeg:20230712T210000
DTSTAMP:20260420T221150
CREATED:20230525T161157Z
LAST-MODIFIED:20230525T161157Z
UID:915-1689188400-1689195600@fabchurch.ca
SUMMARY:Bridal Shower
DESCRIPTION:
URL:https://fabchurch.ca/index.php/event/bridal-shower/
END:VEVENT
END:VCALENDAR