BEGIN:VCALENDAR
VERSION:2.0
PRODID:-//Fourth Avenue Bible Church - ECPv5.3.1.1//NONSGML v1.0//EN
CALSCALE:GREGORIAN
METHOD:PUBLISH
X-WR-CALNAME:Fourth Avenue Bible Church
X-ORIGINAL-URL:https://fabchurch.ca
X-WR-CALDESC:Events for Fourth Avenue Bible Church
BEGIN:VTIMEZONE
TZID:America/Winnipeg
BEGIN:DAYLIGHT
TZOFFSETFROM:-0600
TZOFFSETTO:-0500
TZNAME:CDT
DTSTART:20230312T080000
END:DAYLIGHT
BEGIN:STANDARD
TZOFFSETFROM:-0500
TZOFFSETTO:-0600
TZNAME:CST
DTSTART:20231105T070000
END:STANDARD
END:VTIMEZONE
BEGIN:VEVENT
DTSTART;TZID=America/Winnipeg:20230527T093000
DTEND;TZID=America/Winnipeg:20230527T120000
DTSTAMP:20260420T021204
CREATED:20230518T153402Z
LAST-MODIFIED:20230518T153402Z
UID:893-1685179800-1685188800@fabchurch.ca
SUMMARY:Church Clean-Up Day
DESCRIPTION:
URL:https://fabchurch.ca/index.php/event/church-clean-up-day/
END:VEVENT
END:VCALENDAR