BEGIN:VCALENDAR
VERSION:2.0
PRODID:-//Fourth Avenue Bible Church - ECPv5.3.1.1//NONSGML v1.0//EN
CALSCALE:GREGORIAN
METHOD:PUBLISH
X-WR-CALNAME:Fourth Avenue Bible Church
X-ORIGINAL-URL:https://fabchurch.ca
X-WR-CALDESC:Events for Fourth Avenue Bible Church
BEGIN:VTIMEZONE
TZID:America/Winnipeg
BEGIN:DAYLIGHT
TZOFFSETFROM:-0600
TZOFFSETTO:-0500
TZNAME:CDT
DTSTART:20210314T080000
END:DAYLIGHT
BEGIN:STANDARD
TZOFFSETFROM:-0500
TZOFFSETTO:-0600
TZNAME:CST
DTSTART:20211107T070000
END:STANDARD
END:VTIMEZONE
BEGIN:VEVENT
DTSTART;TZID=America/Winnipeg:20210627T200000
DTEND;TZID=America/Winnipeg:20210627T210000
DTSTAMP:20260421T150300
CREATED:20210620T162646Z
LAST-MODIFIED:20210620T162646Z
UID:489-1624824000-1624827600@fabchurch.ca
SUMMARY:Family Connection via Zoom
DESCRIPTION:
URL:https://fabchurch.ca/index.php/event/family-connection-via-zoom/
END:VEVENT
END:VCALENDAR