BEGIN:VCALENDAR
VERSION:2.0
PRODID:-//Fourth Avenue Bible Church - ECPv5.3.1.1//NONSGML v1.0//EN
CALSCALE:GREGORIAN
METHOD:PUBLISH
X-WR-CALNAME:Fourth Avenue Bible Church
X-ORIGINAL-URL:https://fabchurch.ca
X-WR-CALDESC:Events for Fourth Avenue Bible Church
BEGIN:VTIMEZONE
TZID:America/Winnipeg
BEGIN:DAYLIGHT
TZOFFSETFROM:-0600
TZOFFSETTO:-0500
TZNAME:CDT
DTSTART:20240310T080000
END:DAYLIGHT
BEGIN:STANDARD
TZOFFSETFROM:-0500
TZOFFSETTO:-0600
TZNAME:CST
DTSTART:20241103T070000
END:STANDARD
END:VTIMEZONE
BEGIN:VEVENT
DTSTART;TZID=America/Winnipeg:20240303T150000
DTEND;TZID=America/Winnipeg:20240303T170000
DTSTAMP:20260420T075908
CREATED:20240214T204459Z
LAST-MODIFIED:20240214T204459Z
UID:1251-1709478000-1709485200@fabchurch.ca
SUMMARY:Hymn Sing Afternoon
DESCRIPTION:
URL:https://fabchurch.ca/index.php/event/hymn-sing-afternoon/
END:VEVENT
END:VCALENDAR