BEGIN:VCALENDAR
VERSION:2.0
PRODID:-//Fourth Avenue Bible Church - ECPv5.3.1.1//NONSGML v1.0//EN
CALSCALE:GREGORIAN
METHOD:PUBLISH
X-WR-CALNAME:Fourth Avenue Bible Church
X-ORIGINAL-URL:https://fabchurch.ca
X-WR-CALDESC:Events for Fourth Avenue Bible Church
BEGIN:VTIMEZONE
TZID:America/Winnipeg
BEGIN:DAYLIGHT
TZOFFSETFROM:-0600
TZOFFSETTO:-0500
TZNAME:CDT
DTSTART:20240310T080000
END:DAYLIGHT
BEGIN:STANDARD
TZOFFSETFROM:-0500
TZOFFSETTO:-0600
TZNAME:CST
DTSTART:20241103T070000
END:STANDARD
END:VTIMEZONE
BEGIN:VEVENT
DTSTART;TZID=America/Winnipeg:20240424T190000
DTEND;TZID=America/Winnipeg:20240424T210000
DTSTAMP:20260420T080641
CREATED:20240402T153003Z
LAST-MODIFIED:20240402T153003Z
UID:1342-1713985200-1713992400@fabchurch.ca
SUMMARY:Jr. Youth
DESCRIPTION:For more information regarding our Youth program\, please email youth@fabchurch.ca
URL:https://fabchurch.ca/index.php/event/jr-youth-6/
END:VEVENT
END:VCALENDAR