BEGIN:VCALENDAR
VERSION:2.0
PRODID:-//Fourth Avenue Bible Church - ECPv5.3.1.1//NONSGML v1.0//EN
CALSCALE:GREGORIAN
METHOD:PUBLISH
X-WR-CALNAME:Fourth Avenue Bible Church
X-ORIGINAL-URL:https://fabchurch.ca
X-WR-CALDESC:Events for Fourth Avenue Bible Church
BEGIN:VTIMEZONE
TZID:America/Winnipeg
BEGIN:DAYLIGHT
TZOFFSETFROM:-0600
TZOFFSETTO:-0500
TZNAME:CDT
DTSTART:20240310T080000
END:DAYLIGHT
BEGIN:STANDARD
TZOFFSETFROM:-0500
TZOFFSETTO:-0600
TZNAME:CST
DTSTART:20241103T070000
END:STANDARD
END:VTIMEZONE
BEGIN:VEVENT
DTSTART;TZID=America/Winnipeg:20240526T093000
DTEND;TZID=America/Winnipeg:20240526T103000
DTSTAMP:20260419T094039
CREATED:20240509T161701Z
LAST-MODIFIED:20240509T161701Z
UID:1400-1716715800-1716719400@fabchurch.ca
SUMMARY:Last Adult\, Youth and Adventure Kids Sunday School classes
DESCRIPTION:
URL:https://fabchurch.ca/index.php/event/last-adult-youth-and-adventure-kids-sunday-school-classes/
END:VEVENT
END:VCALENDAR