BEGIN:VCALENDAR
VERSION:2.0
PRODID:-//Fourth Avenue Bible Church - ECPv5.3.1.1//NONSGML v1.0//EN
CALSCALE:GREGORIAN
METHOD:PUBLISH
X-WR-CALNAME:Fourth Avenue Bible Church
X-ORIGINAL-URL:https://fabchurch.ca
X-WR-CALDESC:Events for Fourth Avenue Bible Church
BEGIN:VTIMEZONE
TZID:America/Winnipeg
BEGIN:DAYLIGHT
TZOFFSETFROM:-0600
TZOFFSETTO:-0500
TZNAME:CDT
DTSTART:20230312T080000
END:DAYLIGHT
BEGIN:STANDARD
TZOFFSETFROM:-0500
TZOFFSETTO:-0600
TZNAME:CST
DTSTART:20231105T070000
END:STANDARD
END:VTIMEZONE
BEGIN:VEVENT
DTSTART;TZID=America/Winnipeg:20231201T190000
DTEND;TZID=America/Winnipeg:20231201T223000
DTSTAMP:20260420T192736
CREATED:20231109T171836Z
LAST-MODIFIED:20231109T171836Z
UID:1160-1701457200-1701469800@fabchurch.ca
SUMMARY:Sr. Youth - Community Worship Night
DESCRIPTION:Join us tonight for a night of worship together with other youth groups in town. Meeting at ________.
URL:https://fabchurch.ca/index.php/event/sr-youth-community-worship-night/
CATEGORIES:Sr. Youth
END:VEVENT
END:VCALENDAR