BEGIN:VCALENDAR
VERSION:2.0
PRODID:-//Fourth Avenue Bible Church - ECPv5.3.1.1//NONSGML v1.0//EN
CALSCALE:GREGORIAN
METHOD:PUBLISH
X-WR-CALNAME:Fourth Avenue Bible Church
X-ORIGINAL-URL:https://fabchurch.ca
X-WR-CALDESC:Events for Fourth Avenue Bible Church
BEGIN:VTIMEZONE
TZID:America/Winnipeg
BEGIN:DAYLIGHT
TZOFFSETFROM:-0600
TZOFFSETTO:-0500
TZNAME:CDT
DTSTART:20210314T080000
END:DAYLIGHT
BEGIN:STANDARD
TZOFFSETFROM:-0500
TZOFFSETTO:-0600
TZNAME:CST
DTSTART:20211107T070000
END:STANDARD
END:VTIMEZONE
BEGIN:VEVENT
DTSTART;TZID=America/Winnipeg:20210509T200000
DTEND;TZID=America/Winnipeg:20210509T210000
DTSTAMP:20260421T170013
CREATED:20210112T222331Z
LAST-MODIFIED:20210508T172106Z
UID:282-1620590400-1620594000@fabchurch.ca
SUMMARY:Studies of the Church in Ephesians
DESCRIPTION:Join us Sunday evenings with Joshua Coutts via Zoom from 8 – 9pm\, as we look into Ephesians and the blueprint of the church.
URL:https://fabchurch.ca/index.php/event/studies-of-the-church-in-ephesians/
END:VEVENT
END:VCALENDAR