BEGIN:VCALENDAR
VERSION:2.0
PRODID:-//Fourth Avenue Bible Church - ECPv5.3.1.1//NONSGML v1.0//EN
CALSCALE:GREGORIAN
METHOD:PUBLISH
X-WR-CALNAME:Fourth Avenue Bible Church
X-ORIGINAL-URL:https://fabchurch.ca
X-WR-CALDESC:Events for Fourth Avenue Bible Church
BEGIN:VTIMEZONE
TZID:America/Winnipeg
BEGIN:DAYLIGHT
TZOFFSETFROM:-0600
TZOFFSETTO:-0500
TZNAME:CDT
DTSTART:20230312T080000
END:DAYLIGHT
BEGIN:STANDARD
TZOFFSETFROM:-0500
TZOFFSETTO:-0600
TZNAME:CST
DTSTART:20231105T070000
END:STANDARD
END:VTIMEZONE
BEGIN:VEVENT
DTSTART;TZID=America/Winnipeg:20230618T100000
DTEND;TZID=America/Winnipeg:20230618T110000
DTSTAMP:20260420T201436
CREATED:20230601T162900Z
LAST-MODIFIED:20230601T162900Z
UID:922-1687082400-1687086000@fabchurch.ca
SUMMARY:Summer Schedule Begins
DESCRIPTION:10am service time begins.
URL:https://fabchurch.ca/index.php/event/summer-schedule-begins/
END:VEVENT
END:VCALENDAR