BEGIN:VCALENDAR
VERSION:2.0
PRODID:-//Fourth Avenue Bible Church - ECPv5.3.1.1//NONSGML v1.0//EN
CALSCALE:GREGORIAN
METHOD:PUBLISH
X-WR-CALNAME:Fourth Avenue Bible Church
X-ORIGINAL-URL:https://fabchurch.ca
X-WR-CALDESC:Events for Fourth Avenue Bible Church
BEGIN:VTIMEZONE
TZID:America/Winnipeg
BEGIN:DAYLIGHT
TZOFFSETFROM:-0600
TZOFFSETTO:-0500
TZNAME:CDT
DTSTART:20220313T080000
END:DAYLIGHT
BEGIN:STANDARD
TZOFFSETFROM:-0500
TZOFFSETTO:-0600
TZNAME:CST
DTSTART:20221106T070000
END:STANDARD
END:VTIMEZONE
BEGIN:VEVENT
DTSTART;TZID=America/Winnipeg:20221224T180000
DTEND;TZID=America/Winnipeg:20221224T190000
DTSTAMP:20260421T174657
CREATED:20221217T171913Z
LAST-MODIFIED:20221217T172022Z
UID:728-1671904800-1671908400@fabchurch.ca
SUMMARY:Christmas Eve Program
DESCRIPTION:Join us for our Christmas Eve Candlelight Service beginning at 6pm.
URL:https://fabchurch.ca/index.php/event/christmas-eve-program/
END:VEVENT
BEGIN:VEVENT
DTSTART;TZID=America/Winnipeg:20221225T100000
DTEND;TZID=America/Winnipeg:20221225T110000
DTSTAMP:20260421T174657
CREATED:20221217T172327Z
LAST-MODIFIED:20221217T172327Z
UID:730-1671962400-1671966000@fabchurch.ca
SUMMARY:Christmas Morning Service
DESCRIPTION:
URL:https://fabchurch.ca/index.php/event/christmas-morning-service/
END:VEVENT
END:VCALENDAR