BEGIN:VCALENDAR
VERSION:2.0
PRODID:-//Fourth Avenue Bible Church - ECPv5.3.1.1//NONSGML v1.0//EN
CALSCALE:GREGORIAN
METHOD:PUBLISH
X-WR-CALNAME:Fourth Avenue Bible Church
X-ORIGINAL-URL:https://fabchurch.ca
X-WR-CALDESC:Events for Fourth Avenue Bible Church
BEGIN:VTIMEZONE
TZID:America/Winnipeg
BEGIN:DAYLIGHT
TZOFFSETFROM:-0600
TZOFFSETTO:-0500
TZNAME:CDT
DTSTART:20230312T080000
END:DAYLIGHT
BEGIN:STANDARD
TZOFFSETFROM:-0500
TZOFFSETTO:-0600
TZNAME:CST
DTSTART:20231105T070000
END:STANDARD
END:VTIMEZONE
BEGIN:VEVENT
DTSTART;TZID=America/Winnipeg:20230407T100000
DTEND;TZID=America/Winnipeg:20230407T110000
DTSTAMP:20260421T104222
CREATED:20230330T172732Z
LAST-MODIFIED:20230330T172732Z
UID:796-1680861600-1680865200@fabchurch.ca
SUMMARY:Good Friday Service
DESCRIPTION:
URL:https://fabchurch.ca/index.php/event/good-friday-service-2/
END:VEVENT
BEGIN:VEVENT
DTSTART;TZID=America/Winnipeg:20230416T120000
DTEND;TZID=America/Winnipeg:20230416T150000
DTSTAMP:20260421T104222
CREATED:20230330T180016Z
LAST-MODIFIED:20230330T180016Z
UID:801-1681646400-1681657200@fabchurch.ca
SUMMARY:Annual General Meeting & Potluck
DESCRIPTION:
URL:https://fabchurch.ca/index.php/event/annual-general-meeting-potluck/
END:VEVENT
BEGIN:VEVENT
DTSTART;TZID=America/Winnipeg:20230426T140000
DTEND;TZID=America/Winnipeg:20230426T160000
DTSTAMP:20260421T104222
CREATED:20230412T214239Z
LAST-MODIFIED:20230412T214247Z
UID:853-1682517600-1682524800@fabchurch.ca
SUMMARY:Senior's Coffee
DESCRIPTION:
URL:https://fabchurch.ca/index.php/event/seniors-coffee/
END:VEVENT
BEGIN:VEVENT
DTSTART;TZID=America/Winnipeg:20230428T190000
DTEND;TZID=America/Winnipeg:20230428T190000
DTSTAMP:20260421T104222
CREATED:20230330T172902Z
LAST-MODIFIED:20230330T172902Z
UID:798-1682708400-1682708400@fabchurch.ca
SUMMARY:Ladies Night Out
DESCRIPTION:
URL:https://fabchurch.ca/index.php/event/ladies-night-out/
END:VEVENT
END:VCALENDAR