BEGIN:VCALENDAR
VERSION:2.0
PRODID:-//Fourth Avenue Bible Church - ECPv5.3.1.1//NONSGML v1.0//EN
CALSCALE:GREGORIAN
METHOD:PUBLISH
X-WR-CALNAME:Fourth Avenue Bible Church
X-ORIGINAL-URL:https://fabchurch.ca
X-WR-CALDESC:Events for Fourth Avenue Bible Church
BEGIN:VTIMEZONE
TZID:America/Winnipeg
BEGIN:DAYLIGHT
TZOFFSETFROM:-0600
TZOFFSETTO:-0500
TZNAME:CDT
DTSTART:20230312T080000
END:DAYLIGHT
BEGIN:STANDARD
TZOFFSETFROM:-0500
TZOFFSETTO:-0600
TZNAME:CST
DTSTART:20231105T070000
END:STANDARD
END:VTIMEZONE
BEGIN:VEVENT
DTSTART;TZID=America/Winnipeg:20230702T100000
DTEND;TZID=America/Winnipeg:20230702T120000
DTSTAMP:20260421T041720
CREATED:20230525T161100Z
LAST-MODIFIED:20230628T141256Z
UID:911-1688292000-1688299200@fabchurch.ca
SUMMARY:Breakfast Potluck Service
DESCRIPTION:
URL:https://fabchurch.ca/index.php/event/food-fellowship-2/
END:VEVENT
BEGIN:VEVENT
DTSTART;TZID=America/Winnipeg:20230712T190000
DTEND;TZID=America/Winnipeg:20230712T210000
DTSTAMP:20260421T041720
CREATED:20230525T161157Z
LAST-MODIFIED:20230525T161157Z
UID:915-1689188400-1689195600@fabchurch.ca
SUMMARY:Bridal Shower
DESCRIPTION:
URL:https://fabchurch.ca/index.php/event/bridal-shower/
END:VEVENT
BEGIN:VEVENT
DTSTART;TZID=America/Winnipeg:20230713T190000
DTEND;TZID=America/Winnipeg:20230713T210000
DTSTAMP:20260421T041720
CREATED:20230628T141107Z
LAST-MODIFIED:20230628T141107Z
UID:944-1689274800-1689282000@fabchurch.ca
SUMMARY:Youth
DESCRIPTION:
URL:https://fabchurch.ca/index.php/event/youth/
END:VEVENT
BEGIN:VEVENT
DTSTART;TZID=America/Winnipeg:20230726T140000
DTEND;TZID=America/Winnipeg:20230726T160000
DTSTAMP:20260421T041720
CREATED:20230628T141045Z
LAST-MODIFIED:20230628T141045Z
UID:942-1690380000-1690387200@fabchurch.ca
SUMMARY:Seniors Watermelon & Rollkuchen
DESCRIPTION:
URL:https://fabchurch.ca/index.php/event/seniors-watermelon-rollkuchen/
END:VEVENT
BEGIN:VEVENT
DTSTART;TZID=America/Winnipeg:20230727T190000
DTEND;TZID=America/Winnipeg:20230727T210000
DTSTAMP:20260421T041720
CREATED:20230628T141147Z
LAST-MODIFIED:20230628T141147Z
UID:946-1690484400-1690491600@fabchurch.ca
SUMMARY:Youth
DESCRIPTION:
URL:https://fabchurch.ca/index.php/event/youth-2/
END:VEVENT
END:VCALENDAR