BEGIN:VCALENDAR
VERSION:2.0
PRODID:-//Fourth Avenue Bible Church - ECPv5.3.1.1//NONSGML v1.0//EN
CALSCALE:GREGORIAN
METHOD:PUBLISH
X-WR-CALNAME:Fourth Avenue Bible Church
X-ORIGINAL-URL:https://fabchurch.ca
X-WR-CALDESC:Events for Fourth Avenue Bible Church
BEGIN:VTIMEZONE
TZID:America/Winnipeg
BEGIN:DAYLIGHT
TZOFFSETFROM:-0600
TZOFFSETTO:-0500
TZNAME:CDT
DTSTART:20230312T080000
END:DAYLIGHT
BEGIN:STANDARD
TZOFFSETFROM:-0500
TZOFFSETTO:-0600
TZNAME:CST
DTSTART:20231105T070000
END:STANDARD
END:VTIMEZONE
BEGIN:VEVENT
DTSTART;TZID=America/Winnipeg:20230830T190000
DTEND;TZID=America/Winnipeg:20230830T210000
DTSTAMP:20260420T211804
CREATED:20230726T205606Z
LAST-MODIFIED:20230726T205606Z
UID:984-1693422000-1693429200@fabchurch.ca
SUMMARY:Jr Youth
DESCRIPTION:
URL:https://fabchurch.ca/index.php/event/jr-youth/
END:VEVENT
BEGIN:VEVENT
DTSTART;TZID=America/Winnipeg:20230901T190000
DTEND;TZID=America/Winnipeg:20230901T210000
DTSTAMP:20260420T211804
CREATED:20230726T205646Z
LAST-MODIFIED:20230726T205646Z
UID:986-1693594800-1693602000@fabchurch.ca
SUMMARY:Senior Youth
DESCRIPTION:
URL:https://fabchurch.ca/index.php/event/senior-youth/
END:VEVENT
BEGIN:VEVENT
DTSTART;TZID=America/Winnipeg:20230903T100000
DTEND;TZID=America/Winnipeg:20230903T120000
DTSTAMP:20260420T211804
CREATED:20230525T161128Z
LAST-MODIFIED:20230628T141228Z
UID:913-1693735200-1693742400@fabchurch.ca
SUMMARY:Breakfast Potluck Service
DESCRIPTION:
URL:https://fabchurch.ca/index.php/event/food-fellowship-3/
END:VEVENT
BEGIN:VEVENT
DTSTART;TZID=America/Winnipeg:20230910T093000
DTEND;TZID=America/Winnipeg:20230910T103000
DTSTAMP:20260420T211804
CREATED:20230628T141412Z
LAST-MODIFIED:20230628T141412Z
UID:953-1694338200-1694341800@fabchurch.ca
SUMMARY:Safe Place Policy Meeting
DESCRIPTION:
URL:https://fabchurch.ca/index.php/event/safe-place-policy-meeting/
END:VEVENT
BEGIN:VEVENT
DTSTART;TZID=America/Winnipeg:20230910T104500
DTEND;TZID=America/Winnipeg:20230910T120000
DTSTAMP:20260420T211804
CREATED:20230905T142455Z
LAST-MODIFIED:20230905T192737Z
UID:1025-1694342700-1694347200@fabchurch.ca
SUMMARY:Fall Service Time begins
DESCRIPTION:
URL:https://fabchurch.ca/index.php/event/fall-service-time-begin/
END:VEVENT
BEGIN:VEVENT
DTSTART;TZID=America/Winnipeg:20230917T093000
DTEND;TZID=America/Winnipeg:20230917T103000
DTSTAMP:20260420T211804
CREATED:20230628T141453Z
LAST-MODIFIED:20230628T141453Z
UID:955-1694943000-1694946600@fabchurch.ca
SUMMARY:AK & Adult Sunday School Classes Begin
DESCRIPTION:
URL:https://fabchurch.ca/index.php/event/ak-adult-sunday-school-classes-begin/
END:VEVENT
BEGIN:VEVENT
DTSTART;TZID=America/Winnipeg:20230917T120000
DTEND;TZID=America/Winnipeg:20230917T150000
DTSTAMP:20260420T211804
CREATED:20230628T141334Z
LAST-MODIFIED:20230824T154908Z
UID:951-1694952000-1694962800@fabchurch.ca
SUMMARY:Potluck & Congregational Meeting
DESCRIPTION:
URL:https://fabchurch.ca/index.php/event/potluck/
END:VEVENT
BEGIN:VEVENT
DTSTART;TZID=America/Winnipeg:20230924T093000
DTEND;TZID=America/Winnipeg:20230924T103000
DTSTAMP:20260420T211804
CREATED:20230921T145011Z
LAST-MODIFIED:20230921T145011Z
UID:1040-1695547800-1695551400@fabchurch.ca
SUMMARY:Sunday School
DESCRIPTION:
URL:https://fabchurch.ca/index.php/event/sunday-school/
END:VEVENT
BEGIN:VEVENT
DTSTART;TZID=America/Winnipeg:20230924T102000
DTEND;TZID=America/Winnipeg:20230924T103000
DTSTAMP:20260420T211804
CREATED:20230921T145048Z
LAST-MODIFIED:20230921T145048Z
UID:1042-1695550800-1695551400@fabchurch.ca
SUMMARY:Fire Drill
DESCRIPTION:
URL:https://fabchurch.ca/index.php/event/fire-drill/
END:VEVENT
BEGIN:VEVENT
DTSTART;TZID=America/Winnipeg:20230926T190000
DTEND;TZID=America/Winnipeg:20230926T210000
DTSTAMP:20260420T211804
CREATED:20230921T145318Z
LAST-MODIFIED:20230921T145318Z
UID:1050-1695754800-1695762000@fabchurch.ca
SUMMARY:Worship Ministry Team Meeting
DESCRIPTION:
URL:https://fabchurch.ca/index.php/event/worship-ministry-team-meeting/
END:VEVENT
BEGIN:VEVENT
DTSTART;TZID=America/Winnipeg:20230927T140000
DTEND;TZID=America/Winnipeg:20230927T160000
DTSTAMP:20260420T211804
CREATED:20230921T145109Z
LAST-MODIFIED:20230921T145109Z
UID:1044-1695823200-1695830400@fabchurch.ca
SUMMARY:Senior's Coffee
DESCRIPTION:
URL:https://fabchurch.ca/index.php/event/seniors-coffee-3/
END:VEVENT
BEGIN:VEVENT
DTSTART;TZID=America/Winnipeg:20230927T183000
DTEND;TZID=America/Winnipeg:20230927T210000
DTSTAMP:20260420T211804
CREATED:20230921T145142Z
LAST-MODIFIED:20230921T145142Z
UID:1046-1695839400-1695848400@fabchurch.ca
SUMMARY:Jr Youth
DESCRIPTION:
URL:https://fabchurch.ca/index.php/event/jr-youth-2/
END:VEVENT
BEGIN:VEVENT
DTSTART;TZID=America/Winnipeg:20230929T190000
DTEND;TZID=America/Winnipeg:20230929T220000
DTSTAMP:20260420T211804
CREATED:20230921T145210Z
LAST-MODIFIED:20230921T145245Z
UID:1048-1696014000-1696024800@fabchurch.ca
SUMMARY:Sr Youth
DESCRIPTION:
URL:https://fabchurch.ca/index.php/event/sr-youth/
END:VEVENT
END:VCALENDAR