BEGIN:VCALENDAR
VERSION:2.0
PRODID:-//Fourth Avenue Bible Church - ECPv5.3.1.1//NONSGML v1.0//EN
CALSCALE:GREGORIAN
METHOD:PUBLISH
X-WR-CALNAME:Fourth Avenue Bible Church
X-ORIGINAL-URL:https://fabchurch.ca
X-WR-CALDESC:Events for Fourth Avenue Bible Church
BEGIN:VTIMEZONE
TZID:America/Winnipeg
BEGIN:DAYLIGHT
TZOFFSETFROM:-0600
TZOFFSETTO:-0500
TZNAME:CDT
DTSTART:20230312T080000
END:DAYLIGHT
BEGIN:STANDARD
TZOFFSETFROM:-0500
TZOFFSETTO:-0600
TZNAME:CST
DTSTART:20231105T070000
END:STANDARD
END:VTIMEZONE
BEGIN:VEVENT
DTSTART;TZID=America/Winnipeg:20231001T093000
DTEND;TZID=America/Winnipeg:20231001T103000
DTSTAMP:20260420T193257
CREATED:20230921T145912Z
LAST-MODIFIED:20230921T145912Z
UID:1060-1696152600-1696156200@fabchurch.ca
SUMMARY:Sunday School
DESCRIPTION:
URL:https://fabchurch.ca/index.php/event/sunday-school-2/
END:VEVENT
BEGIN:VEVENT
DTSTART;TZID=America/Winnipeg:20231001T120000
DTEND;TZID=America/Winnipeg:20231001T123000
DTSTAMP:20260420T193257
CREATED:20230921T145355Z
LAST-MODIFIED:20230921T145355Z
UID:1052-1696161600-1696163400@fabchurch.ca
SUMMARY:Trustees Ministry Meeting
DESCRIPTION:
URL:https://fabchurch.ca/index.php/event/trustees-ministry-meeting-2/
END:VEVENT
BEGIN:VEVENT
DTSTART;TZID=America/Winnipeg:20231003T190000
DTEND;TZID=America/Winnipeg:20231003T203000
DTSTAMP:20260420T193257
CREATED:20230921T145421Z
LAST-MODIFIED:20230921T145421Z
UID:1054-1696359600-1696365000@fabchurch.ca
SUMMARY:Lead Team Ministry Meeting
DESCRIPTION:
URL:https://fabchurch.ca/index.php/event/lead-team-ministry-meeting-2/
END:VEVENT
BEGIN:VEVENT
DTSTART;TZID=America/Winnipeg:20231015T093000
DTEND;TZID=America/Winnipeg:20231015T103000
DTSTAMP:20260420T193257
CREATED:20230921T145943Z
LAST-MODIFIED:20230921T145943Z
UID:1062-1697362200-1697365800@fabchurch.ca
SUMMARY:Sunday School
DESCRIPTION:
URL:https://fabchurch.ca/index.php/event/sunday-school-3/
END:VEVENT
BEGIN:VEVENT
DTSTART;TZID=America/Winnipeg:20231015T093000
DTEND;TZID=America/Winnipeg:20231015T120000
DTSTAMP:20260420T193257
CREATED:20230921T150641Z
LAST-MODIFIED:20230921T150641Z
UID:1075-1697362200-1697371200@fabchurch.ca
SUMMARY:Shoebox Kickoff
DESCRIPTION:
URL:https://fabchurch.ca/index.php/event/shoebox-kickoff/
END:VEVENT
BEGIN:VEVENT
DTSTART;TZID=America/Winnipeg:20231016T190000
DTEND;TZID=America/Winnipeg:20231016T203000
DTSTAMP:20260420T193257
CREATED:20230921T145639Z
LAST-MODIFIED:20230921T145639Z
UID:1056-1697482800-1697488200@fabchurch.ca
SUMMARY:Trustees Ministry Meeting
DESCRIPTION:
URL:https://fabchurch.ca/index.php/event/trustees-ministry-meeting-3/
END:VEVENT
BEGIN:VEVENT
DTSTART;TZID=America/Winnipeg:20231022T093000
DTEND;TZID=America/Winnipeg:20231022T103000
DTSTAMP:20260420T193257
CREATED:20230921T150359Z
LAST-MODIFIED:20230921T150359Z
UID:1065-1697967000-1697970600@fabchurch.ca
SUMMARY:Sunday School
DESCRIPTION:
URL:https://fabchurch.ca/index.php/event/sunday-school-4/
END:VEVENT
BEGIN:VEVENT
DTSTART;TZID=America/Winnipeg:20231024T190000
DTEND;TZID=America/Winnipeg:20231024T203000
DTSTAMP:20260420T193257
CREATED:20230921T145810Z
LAST-MODIFIED:20230921T145810Z
UID:1058-1698174000-1698179400@fabchurch.ca
SUMMARY:Lead Team Ministry Meeting
DESCRIPTION:
URL:https://fabchurch.ca/index.php/event/lead-team-ministry-meeting-3/
END:VEVENT
BEGIN:VEVENT
DTSTART;TZID=America/Winnipeg:20231025T120000
DTEND;TZID=America/Winnipeg:20231025T140000
DTSTAMP:20260420T193257
CREATED:20231017T160701Z
LAST-MODIFIED:20231017T160701Z
UID:1122-1698235200-1698242400@fabchurch.ca
SUMMARY:Senior's Lunch & Devotional
DESCRIPTION:
URL:https://fabchurch.ca/index.php/event/seniors-lunch-devotional/
END:VEVENT
BEGIN:VEVENT
DTSTART;TZID=America/Winnipeg:20231029T093000
DTEND;TZID=America/Winnipeg:20231029T103000
DTSTAMP:20260420T193257
CREATED:20230921T150445Z
LAST-MODIFIED:20230921T150445Z
UID:1069-1698571800-1698575400@fabchurch.ca
SUMMARY:Sunday School
DESCRIPTION:
URL:https://fabchurch.ca/index.php/event/sunday-school-6/
END:VEVENT
END:VCALENDAR