BEGIN:VCALENDAR
VERSION:2.0
PRODID:-//Fourth Avenue Bible Church - ECPv5.3.1.1//NONSGML v1.0//EN
CALSCALE:GREGORIAN
METHOD:PUBLISH
X-WR-CALNAME:Fourth Avenue Bible Church
X-ORIGINAL-URL:https://fabchurch.ca
X-WR-CALDESC:Events for Fourth Avenue Bible Church
BEGIN:VTIMEZONE
TZID:America/Winnipeg
BEGIN:DAYLIGHT
TZOFFSETFROM:-0600
TZOFFSETTO:-0500
TZNAME:CDT
DTSTART:20240310T080000
END:DAYLIGHT
BEGIN:STANDARD
TZOFFSETFROM:-0500
TZOFFSETTO:-0600
TZNAME:CST
DTSTART:20241103T070000
END:STANDARD
END:VTIMEZONE
BEGIN:VEVENT
DTSTART;TZID=America/Winnipeg:20240227T190000
DTEND;TZID=America/Winnipeg:20240227T203000
DTSTAMP:20260420T062027
CREATED:20240214T204557Z
LAST-MODIFIED:20240214T204557Z
UID:1255-1709060400-1709065800@fabchurch.ca
SUMMARY:Worship Ministry Team meets
DESCRIPTION:
URL:https://fabchurch.ca/index.php/event/worship-ministry-team-meets/
END:VEVENT
BEGIN:VEVENT
DTSTART;TZID=America/Winnipeg:20240228T140000
DTEND;TZID=America/Winnipeg:20240228T160000
DTSTAMP:20260420T062027
CREATED:20240214T204432Z
LAST-MODIFIED:20240214T204432Z
UID:1249-1709128800-1709136000@fabchurch.ca
SUMMARY:Seniors Coffee
DESCRIPTION:
URL:https://fabchurch.ca/index.php/event/seniors-coffee-4/
END:VEVENT
BEGIN:VEVENT
DTSTART;VALUE=DATE:20240301
DTEND;VALUE=DATE:20240303
DTSTAMP:20260420T062027
CREATED:20240214T204857Z
LAST-MODIFIED:20240214T204857Z
UID:1263-1709251200-1709423999@fabchurch.ca
SUMMARY:MBCM Assembly
DESCRIPTION:
URL:https://fabchurch.ca/index.php/event/mbcm-assembly/
END:VEVENT
BEGIN:VEVENT
DTSTART;TZID=America/Winnipeg:20240303T150000
DTEND;TZID=America/Winnipeg:20240303T170000
DTSTAMP:20260420T062027
CREATED:20240214T204459Z
LAST-MODIFIED:20240214T204459Z
UID:1251-1709478000-1709485200@fabchurch.ca
SUMMARY:Hymn Sing Afternoon
DESCRIPTION:
URL:https://fabchurch.ca/index.php/event/hymn-sing-afternoon/
END:VEVENT
BEGIN:VEVENT
DTSTART;TZID=America/Winnipeg:20240305T190000
DTEND;TZID=America/Winnipeg:20240305T203000
DTSTAMP:20260420T062027
CREATED:20240214T204526Z
LAST-MODIFIED:20240214T204526Z
UID:1253-1709665200-1709670600@fabchurch.ca
SUMMARY:Lead Team Ministry meets
DESCRIPTION:
URL:https://fabchurch.ca/index.php/event/lead-team-ministry-meets/
END:VEVENT
BEGIN:VEVENT
DTSTART;TZID=America/Winnipeg:20240326T190000
DTEND;TZID=America/Winnipeg:20240326T203000
DTSTAMP:20260420T062027
CREATED:20240214T204943Z
LAST-MODIFIED:20240214T204943Z
UID:1265-1711479600-1711485000@fabchurch.ca
SUMMARY:Lead Team Ministry meets
DESCRIPTION:
URL:https://fabchurch.ca/index.php/event/lead-team-ministry-meets-2/
END:VEVENT
BEGIN:VEVENT
DTSTART;TZID=America/Winnipeg:20240403T190000
DTEND;TZID=America/Winnipeg:20240403T210000
DTSTAMP:20260420T062027
CREATED:20240402T151132Z
LAST-MODIFIED:20240402T151230Z
UID:1326-1712170800-1712178000@fabchurch.ca
SUMMARY:Jr Youth
DESCRIPTION:For more information regarding our Youth program\, please email youth@fabchurch.ca
URL:https://fabchurch.ca/index.php/event/jr-youth-3/
CATEGORIES:Jr. Youth
END:VEVENT
END:VCALENDAR