BEGIN:VCALENDAR
VERSION:2.0
PRODID:-//Fourth Avenue Bible Church - ECPv5.3.1.1//NONSGML v1.0//EN
CALSCALE:GREGORIAN
METHOD:PUBLISH
X-WR-CALNAME:Fourth Avenue Bible Church
X-ORIGINAL-URL:https://fabchurch.ca
X-WR-CALDESC:Events for Fourth Avenue Bible Church
BEGIN:VTIMEZONE
TZID:America/Winnipeg
BEGIN:DAYLIGHT
TZOFFSETFROM:-0600
TZOFFSETTO:-0500
TZNAME:CDT
DTSTART:20240310T080000
END:DAYLIGHT
BEGIN:STANDARD
TZOFFSETFROM:-0500
TZOFFSETTO:-0600
TZNAME:CST
DTSTART:20241103T070000
END:STANDARD
END:VTIMEZONE
BEGIN:VEVENT
DTSTART;TZID=America/Winnipeg:20240403T190000
DTEND;TZID=America/Winnipeg:20240403T210000
DTSTAMP:20260420T042836
CREATED:20240402T151132Z
LAST-MODIFIED:20240402T151230Z
UID:1326-1712170800-1712178000@fabchurch.ca
SUMMARY:Jr Youth
DESCRIPTION:For more information regarding our Youth program\, please email youth@fabchurch.ca
URL:https://fabchurch.ca/index.php/event/jr-youth-3/
CATEGORIES:Jr. Youth
END:VEVENT
BEGIN:VEVENT
DTSTART;TZID=America/Winnipeg:20240410T190000
DTEND;TZID=America/Winnipeg:20240410T210000
DTSTAMP:20260420T042836
CREATED:20240402T152908Z
LAST-MODIFIED:20240402T152908Z
UID:1338-1712775600-1712782800@fabchurch.ca
SUMMARY:Jr. Youth
DESCRIPTION:For more information regarding our Youth program\, please email youth@fabchurch.ca
URL:https://fabchurch.ca/index.php/event/jr-youth-4/
CATEGORIES:Jr. Youth
END:VEVENT
BEGIN:VEVENT
DTSTART;TZID=America/Winnipeg:20240412T190000
DTEND;TZID=America/Winnipeg:20240412T210000
DTSTAMP:20260420T042836
CREATED:20240403T161147Z
LAST-MODIFIED:20240403T161147Z
UID:1362-1712948400-1712955600@fabchurch.ca
SUMMARY:Men's Night
DESCRIPTION:Meet at Providence University College gym. Please bring indoor shoes\, a small snack and a game (if you would like)
URL:https://fabchurch.ca/index.php/event/mens-night/
END:VEVENT
BEGIN:VEVENT
DTSTART;TZID=America/Winnipeg:20240414T120000
DTEND;TZID=America/Winnipeg:20240414T143000
DTSTAMP:20260420T042836
CREATED:20240214T204629Z
LAST-MODIFIED:20240214T204629Z
UID:1257-1713096000-1713105000@fabchurch.ca
SUMMARY:AGM & Potluck
DESCRIPTION:
URL:https://fabchurch.ca/index.php/event/agm-potluck/
END:VEVENT
BEGIN:VEVENT
DTSTART;TZID=America/Winnipeg:20240415T190000
DTEND;TZID=America/Winnipeg:20240415T210000
DTSTAMP:20260420T042836
CREATED:20240403T161012Z
LAST-MODIFIED:20240403T161012Z
UID:1358-1713207600-1713214800@fabchurch.ca
SUMMARY:Women's Bible Study
DESCRIPTION:
URL:https://fabchurch.ca/index.php/event/womens-bible-study/
END:VEVENT
BEGIN:VEVENT
DTSTART;TZID=America/Winnipeg:20240417T190000
DTEND;TZID=America/Winnipeg:20240417T210000
DTSTAMP:20260420T042836
CREATED:20240402T152935Z
LAST-MODIFIED:20240402T152935Z
UID:1340-1713380400-1713387600@fabchurch.ca
SUMMARY:Jr. Youth
DESCRIPTION:For more information regarding our Youth program\, please email youth@fabchurch.ca
URL:https://fabchurch.ca/index.php/event/jr-youth-5/
CATEGORIES:Jr. Youth
END:VEVENT
BEGIN:VEVENT
DTSTART;TZID=America/Winnipeg:20240424T140000
DTEND;TZID=America/Winnipeg:20240424T160000
DTSTAMP:20260420T042836
CREATED:20240403T160948Z
LAST-MODIFIED:20240403T160948Z
UID:1356-1713967200-1713974400@fabchurch.ca
SUMMARY:Seniors Coffee & Devotional
DESCRIPTION:
URL:https://fabchurch.ca/index.php/event/seniors-coffee-devotional/
END:VEVENT
BEGIN:VEVENT
DTSTART;TZID=America/Winnipeg:20240424T190000
DTEND;TZID=America/Winnipeg:20240424T210000
DTSTAMP:20260420T042836
CREATED:20240402T153003Z
LAST-MODIFIED:20240402T153003Z
UID:1342-1713985200-1713992400@fabchurch.ca
SUMMARY:Jr. Youth
DESCRIPTION:For more information regarding our Youth program\, please email youth@fabchurch.ca
URL:https://fabchurch.ca/index.php/event/jr-youth-6/
END:VEVENT
BEGIN:VEVENT
DTSTART;TZID=America/Winnipeg:20240429T190000
DTEND;TZID=America/Winnipeg:20240429T210000
DTSTAMP:20260420T042836
CREATED:20240403T161035Z
LAST-MODIFIED:20240403T161035Z
UID:1360-1714417200-1714424400@fabchurch.ca
SUMMARY:Women's Bible Study
DESCRIPTION:
URL:https://fabchurch.ca/index.php/event/womens-bible-study-2/
END:VEVENT
BEGIN:VEVENT
DTSTART;TZID=America/Winnipeg:20240501T190000
DTEND;TZID=America/Winnipeg:20240501T210000
DTSTAMP:20260420T042836
CREATED:20240402T153423Z
LAST-MODIFIED:20240402T153423Z
UID:1344-1714590000-1714597200@fabchurch.ca
SUMMARY:Jr. Youth
DESCRIPTION:For more information regarding our Youth program\, please email youth@fabchurch.ca
URL:https://fabchurch.ca/index.php/event/jr-youth-7/
CATEGORIES:Jr. Youth
END:VEVENT
END:VCALENDAR