BEGIN:VCALENDAR
VERSION:2.0
PRODID:-//Fourth Avenue Bible Church - ECPv5.3.1.1//NONSGML v1.0//EN
CALSCALE:GREGORIAN
METHOD:PUBLISH
X-WR-CALNAME:Fourth Avenue Bible Church
X-ORIGINAL-URL:https://fabchurch.ca
X-WR-CALDESC:Events for Fourth Avenue Bible Church
BEGIN:VTIMEZONE
TZID:America/Winnipeg
BEGIN:DAYLIGHT
TZOFFSETFROM:-0600
TZOFFSETTO:-0500
TZNAME:CDT
DTSTART:20240310T080000
END:DAYLIGHT
BEGIN:STANDARD
TZOFFSETFROM:-0500
TZOFFSETTO:-0600
TZNAME:CST
DTSTART:20241103T070000
END:STANDARD
END:VTIMEZONE
BEGIN:VEVENT
DTSTART;TZID=America/Winnipeg:20240429T190000
DTEND;TZID=America/Winnipeg:20240429T210000
DTSTAMP:20260420T023427
CREATED:20240403T161035Z
LAST-MODIFIED:20240403T161035Z
UID:1360-1714417200-1714424400@fabchurch.ca
SUMMARY:Women's Bible Study
DESCRIPTION:
URL:https://fabchurch.ca/index.php/event/womens-bible-study-2/
END:VEVENT
BEGIN:VEVENT
DTSTART;TZID=America/Winnipeg:20240501T190000
DTEND;TZID=America/Winnipeg:20240501T210000
DTSTAMP:20260420T023427
CREATED:20240402T153423Z
LAST-MODIFIED:20240402T153423Z
UID:1344-1714590000-1714597200@fabchurch.ca
SUMMARY:Jr. Youth
DESCRIPTION:For more information regarding our Youth program\, please email youth@fabchurch.ca
URL:https://fabchurch.ca/index.php/event/jr-youth-7/
CATEGORIES:Jr. Youth
END:VEVENT
BEGIN:VEVENT
DTSTART;TZID=America/Winnipeg:20240508T190000
DTEND;TZID=America/Winnipeg:20240508T210000
DTSTAMP:20260420T023427
CREATED:20240402T153503Z
LAST-MODIFIED:20240402T153503Z
UID:1346-1715194800-1715202000@fabchurch.ca
SUMMARY:Jr. Youth
DESCRIPTION:For more information regarding our Youth program\, please email youth@fabchurch.ca
URL:https://fabchurch.ca/index.php/event/jr-youth-8/
CATEGORIES:Jr. Youth
END:VEVENT
BEGIN:VEVENT
DTSTART;TZID=America/Winnipeg:20240513T190000
DTEND;TZID=America/Winnipeg:20240513T210000
DTSTAMP:20260420T023427
CREATED:20240423T144305Z
LAST-MODIFIED:20240423T144305Z
UID:1381-1715626800-1715634000@fabchurch.ca
SUMMARY:Women's Bible Study (last session)
DESCRIPTION:
URL:https://fabchurch.ca/index.php/event/womens-bible-study-last-session/
END:VEVENT
BEGIN:VEVENT
DTSTART;TZID=America/Winnipeg:20240515T190000
DTEND;TZID=America/Winnipeg:20240515T210000
DTSTAMP:20260420T023427
CREATED:20240402T153524Z
LAST-MODIFIED:20240402T153524Z
UID:1348-1715799600-1715806800@fabchurch.ca
SUMMARY:Jr. Youth
DESCRIPTION:For more information regarding our Youth program\, please email youth@fabchurch.ca
URL:https://fabchurch.ca/index.php/event/jr-youth-9/
CATEGORIES:Jr. Youth
END:VEVENT
BEGIN:VEVENT
DTSTART;TZID=America/Winnipeg:20240522T190000
DTEND;TZID=America/Winnipeg:20240522T210000
DTSTAMP:20260420T023427
CREATED:20240402T153556Z
LAST-MODIFIED:20240402T153556Z
UID:1350-1716404400-1716411600@fabchurch.ca
SUMMARY:Jr. Youth
DESCRIPTION:
URL:https://fabchurch.ca/index.php/event/jr-youth-10/
CATEGORIES:Jr. Youth
END:VEVENT
BEGIN:VEVENT
DTSTART;TZID=America/Winnipeg:20240525T093000
DTEND;TZID=America/Winnipeg:20240525T120000
DTSTAMP:20260420T023427
CREATED:20240502T151202Z
LAST-MODIFIED:20240502T151202Z
UID:1392-1716629400-1716638400@fabchurch.ca
SUMMARY:Church Clean-Up Day
DESCRIPTION:
URL:https://fabchurch.ca/index.php/event/church-clean-up-day-2/
END:VEVENT
BEGIN:VEVENT
DTSTART;TZID=America/Winnipeg:20240525T140000
DTEND;TZID=America/Winnipeg:20240525T160000
DTSTAMP:20260420T023427
CREATED:20240418T153135Z
LAST-MODIFIED:20240418T153135Z
UID:1374-1716645600-1716652800@fabchurch.ca
SUMMARY:Bridal Shower
DESCRIPTION:
URL:https://fabchurch.ca/index.php/event/bridal-shower-2/
END:VEVENT
BEGIN:VEVENT
DTSTART;TZID=America/Winnipeg:20240526T093000
DTEND;TZID=America/Winnipeg:20240526T103000
DTSTAMP:20260420T023427
CREATED:20240509T161701Z
LAST-MODIFIED:20240509T161701Z
UID:1400-1716715800-1716719400@fabchurch.ca
SUMMARY:Last Adult\, Youth and Adventure Kids Sunday School classes
DESCRIPTION:
URL:https://fabchurch.ca/index.php/event/last-adult-youth-and-adventure-kids-sunday-school-classes/
END:VEVENT
BEGIN:VEVENT
DTSTART;TZID=America/Winnipeg:20240529T140000
DTEND;TZID=America/Winnipeg:20240529T160000
DTSTAMP:20260420T023427
CREATED:20240509T161744Z
LAST-MODIFIED:20240509T161744Z
UID:1402-1716991200-1716998400@fabchurch.ca
SUMMARY:Seniors Coffee
DESCRIPTION:
URL:https://fabchurch.ca/index.php/event/seniors-coffee-5/
END:VEVENT
BEGIN:VEVENT
DTSTART;TZID=America/Winnipeg:20240529T190000
DTEND;TZID=America/Winnipeg:20240529T210000
DTSTAMP:20260420T023427
CREATED:20240402T153626Z
LAST-MODIFIED:20240402T153626Z
UID:1352-1717009200-1717016400@fabchurch.ca
SUMMARY:Jr. Youth
DESCRIPTION:For more information regarding our Youth program\, please email youth@fabchurch.ca
URL:https://fabchurch.ca/index.php/event/jr-youth-11/
CATEGORIES:Jr. Youth
END:VEVENT
END:VCALENDAR