BEGIN:VCALENDAR
VERSION:2.0
PRODID:-//Fourth Avenue Bible Church - ECPv5.3.1.1//NONSGML v1.0//EN
CALSCALE:GREGORIAN
METHOD:PUBLISH
X-WR-CALNAME:Fourth Avenue Bible Church
X-ORIGINAL-URL:https://fabchurch.ca
X-WR-CALDESC:Events for Fourth Avenue Bible Church
BEGIN:VTIMEZONE
TZID:America/Winnipeg
BEGIN:DAYLIGHT
TZOFFSETFROM:-0600
TZOFFSETTO:-0500
TZNAME:CDT
DTSTART:20240310T080000
END:DAYLIGHT
BEGIN:STANDARD
TZOFFSETFROM:-0500
TZOFFSETTO:-0600
TZNAME:CST
DTSTART:20241103T070000
END:STANDARD
END:VTIMEZONE
BEGIN:VEVENT
DTSTART;TZID=America/Winnipeg:20240730T183000
DTEND;TZID=America/Winnipeg:20240730T200000
DTSTAMP:20260419T192415
CREATED:20240710T152324Z
LAST-MODIFIED:20240710T152324Z
UID:1475-1722364200-1722369600@fabchurch.ca
SUMMARY:Adventure Kids Family Night
DESCRIPTION:
URL:https://fabchurch.ca/index.php/event/adventure-kids-family-night/
END:VEVENT
BEGIN:VEVENT
DTSTART;TZID=America/Winnipeg:20240804T100000
DTEND;TZID=America/Winnipeg:20240804T120000
DTSTAMP:20260419T192415
CREATED:20240605T205518Z
LAST-MODIFIED:20240605T205518Z
UID:1434-1722765600-1722772800@fabchurch.ca
SUMMARY:Breakfast Potluck
DESCRIPTION:
URL:https://fabchurch.ca/index.php/event/breakfast-potluck-2/
END:VEVENT
BEGIN:VEVENT
DTSTART;TZID=America/Winnipeg:20240808T120000
DTEND;TZID=America/Winnipeg:20240808T133000
DTSTAMP:20260419T192415
CREATED:20240709T201838Z
LAST-MODIFIED:20240709T201838Z
UID:1471-1723118400-1723123800@fabchurch.ca
SUMMARY:Youth Lunch
DESCRIPTION:
URL:https://fabchurch.ca/index.php/event/youth-lunch-2/
END:VEVENT
BEGIN:VEVENT
DTSTART;TZID=America/Winnipeg:20240814T190000
DTEND;TZID=America/Winnipeg:20240814T210000
DTSTAMP:20260419T192415
CREATED:20240709T201906Z
LAST-MODIFIED:20240709T201906Z
UID:1473-1723662000-1723669200@fabchurch.ca
SUMMARY:Youth Event Evening
DESCRIPTION:
URL:https://fabchurch.ca/index.php/event/youth-event-evening/
END:VEVENT
BEGIN:VEVENT
DTSTART;TZID=America/Winnipeg:20240820T190000
DTEND;TZID=America/Winnipeg:20240820T200000
DTSTAMP:20260419T192415
CREATED:20240801T203221Z
LAST-MODIFIED:20240801T203221Z
UID:1503-1724180400-1724184000@fabchurch.ca
SUMMARY:Lead Team Ministry meets
DESCRIPTION:
URL:https://fabchurch.ca/index.php/event/lead-team-ministry-meets-4/
END:VEVENT
BEGIN:VEVENT
DTSTART;TZID=America/Winnipeg:20240826T190000
DTEND;TZID=America/Winnipeg:20240826T200000
DTSTAMP:20260419T192415
CREATED:20240801T203200Z
LAST-MODIFIED:20240801T203200Z
UID:1501-1724698800-1724702400@fabchurch.ca
SUMMARY:Trustees Ministry Team meets
DESCRIPTION:
URL:https://fabchurch.ca/index.php/event/trustees-ministry-team-meets-3/
END:VEVENT
END:VCALENDAR