BEGIN:VCALENDAR
VERSION:2.0
PRODID:-//Fourth Avenue Bible Church - ECPv5.3.1.1//NONSGML v1.0//EN
CALSCALE:GREGORIAN
METHOD:PUBLISH
X-WR-CALNAME:Fourth Avenue Bible Church
X-ORIGINAL-URL:https://fabchurch.ca
X-WR-CALDESC:Events for Fourth Avenue Bible Church
BEGIN:VTIMEZONE
TZID:America/Winnipeg
BEGIN:DAYLIGHT
TZOFFSETFROM:-0600
TZOFFSETTO:-0500
TZNAME:CDT
DTSTART:20240310T080000
END:DAYLIGHT
BEGIN:STANDARD
TZOFFSETFROM:-0500
TZOFFSETTO:-0600
TZNAME:CST
DTSTART:20241103T070000
END:STANDARD
END:VTIMEZONE
BEGIN:VEVENT
DTSTART;TZID=America/Winnipeg:20240929T120000
DTEND;TZID=America/Winnipeg:20240929T150000
DTSTAMP:20260419T152909
CREATED:20240605T205457Z
LAST-MODIFIED:20240605T205618Z
UID:1432-1727611200-1727622000@fabchurch.ca
SUMMARY:Youth Ministry Congregational Meeting & Potluck
DESCRIPTION:
URL:https://fabchurch.ca/index.php/event/congregational-meeting-potluck/
END:VEVENT
BEGIN:VEVENT
DTSTART;TZID=America/Winnipeg:20241001T190000
DTEND;TZID=America/Winnipeg:20241001T200000
DTSTAMP:20260419T152909
CREATED:20240910T181222Z
LAST-MODIFIED:20240910T181222Z
UID:1539-1727809200-1727812800@fabchurch.ca
SUMMARY:Lead Team Ministry meets
DESCRIPTION:
URL:https://fabchurch.ca/index.php/event/lead-team-ministry-meets-5/
END:VEVENT
BEGIN:VEVENT
DTSTART;TZID=America/Winnipeg:20241013T093000
DTEND;TZID=America/Winnipeg:20241013T103000
DTSTAMP:20260419T152909
CREATED:20240910T181600Z
LAST-MODIFIED:20240910T181600Z
UID:1546-1728811800-1728815400@fabchurch.ca
SUMMARY:No Sunday School
DESCRIPTION:
URL:https://fabchurch.ca/index.php/event/no-sunday-school/
END:VEVENT
BEGIN:VEVENT
DTSTART;TZID=America/Winnipeg:20241020T120000
DTEND;TZID=America/Winnipeg:20241020T140000
DTSTAMP:20260419T152909
CREATED:20240801T203112Z
LAST-MODIFIED:20240801T203112Z
UID:1499-1729425600-1729432800@fabchurch.ca
SUMMARY:Thanksgiving Potluck
DESCRIPTION:
URL:https://fabchurch.ca/index.php/event/thanksgiving-potluck/
END:VEVENT
BEGIN:VEVENT
DTSTART;TZID=America/Winnipeg:20241021T190000
DTEND;TZID=America/Winnipeg:20241021T203000
DTSTAMP:20260419T152909
CREATED:20241016T201546Z
LAST-MODIFIED:20241016T201546Z
UID:1584-1729537200-1729542600@fabchurch.ca
SUMMARY:Trustees Ministry Team meets
DESCRIPTION:
URL:https://fabchurch.ca/index.php/event/trustees-ministry-team-meets-5/
END:VEVENT
BEGIN:VEVENT
DTSTART;TZID=America/Winnipeg:20241022T190000
DTEND;TZID=America/Winnipeg:20241022T203000
DTSTAMP:20260419T152909
CREATED:20241016T202024Z
LAST-MODIFIED:20241016T202024Z
UID:1586-1729623600-1729629000@fabchurch.ca
SUMMARY:Lead Team Ministry meets
DESCRIPTION:
URL:https://fabchurch.ca/index.php/event/lead-team-ministry-meets-6/
END:VEVENT
BEGIN:VEVENT
DTSTART;TZID=America/Winnipeg:20241030T140000
DTEND;TZID=America/Winnipeg:20241030T160000
DTSTAMP:20260419T152909
CREATED:20241016T201459Z
LAST-MODIFIED:20241016T201459Z
UID:1580-1730296800-1730304000@fabchurch.ca
SUMMARY:Seniors Coffee & Devotional
DESCRIPTION:
URL:https://fabchurch.ca/index.php/event/seniors-coffee-devotional-2/
END:VEVENT
END:VCALENDAR