BEGIN:VCALENDAR
VERSION:2.0
PRODID:-//Fourth Avenue Bible Church - ECPv5.3.1.1//NONSGML v1.0//EN
CALSCALE:GREGORIAN
METHOD:PUBLISH
X-WR-CALNAME:Fourth Avenue Bible Church
X-ORIGINAL-URL:https://fabchurch.ca
X-WR-CALDESC:Events for Fourth Avenue Bible Church
BEGIN:VTIMEZONE
TZID:America/Winnipeg
BEGIN:DAYLIGHT
TZOFFSETFROM:-0600
TZOFFSETTO:-0500
TZNAME:CDT
DTSTART:20240310T080000
END:DAYLIGHT
BEGIN:STANDARD
TZOFFSETFROM:-0500
TZOFFSETTO:-0600
TZNAME:CST
DTSTART:20241103T070000
END:STANDARD
END:VTIMEZONE
BEGIN:VEVENT
DTSTART;TZID=America/Winnipeg:20241215T104500
DTEND;TZID=America/Winnipeg:20241215T120000
DTSTAMP:20260419T134807
CREATED:20240910T181107Z
LAST-MODIFIED:20240910T181107Z
UID:1533-1734259500-1734264000@fabchurch.ca
SUMMARY:Adventure Kids Christmas Program
DESCRIPTION:
URL:https://fabchurch.ca/index.php/event/adventure-kids-christmas-program-2/
END:VEVENT
BEGIN:VEVENT
DTSTART;TZID=America/Winnipeg:20241224T180000
DTEND;TZID=America/Winnipeg:20241224T190000
DTSTAMP:20260419T134807
CREATED:20240910T181430Z
LAST-MODIFIED:20240910T181430Z
UID:1544-1735063200-1735066800@fabchurch.ca
SUMMARY:Candlelight Service
DESCRIPTION:
URL:https://fabchurch.ca/index.php/event/candlelight-service-2/
END:VEVENT
END:VCALENDAR