BEGIN:VCALENDAR
VERSION:2.0
PRODID:-//Fourth Avenue Bible Church - ECPv5.3.1.1//NONSGML v1.0//EN
CALSCALE:GREGORIAN
METHOD:PUBLISH
X-WR-CALNAME:Fourth Avenue Bible Church
X-ORIGINAL-URL:https://fabchurch.ca
X-WR-CALDESC:Events for Fourth Avenue Bible Church
BEGIN:VTIMEZONE
TZID:America/Winnipeg
BEGIN:DAYLIGHT
TZOFFSETFROM:-0600
TZOFFSETTO:-0500
TZNAME:CDT
DTSTART:20250309T080000
END:DAYLIGHT
BEGIN:STANDARD
TZOFFSETFROM:-0500
TZOFFSETTO:-0600
TZNAME:CST
DTSTART:20251102T070000
END:STANDARD
END:VTIMEZONE
BEGIN:VEVENT
DTSTART;TZID=America/Winnipeg:20250226T140000
DTEND;TZID=America/Winnipeg:20250226T153000
DTSTAMP:20260419T081647
CREATED:20250213T193912Z
LAST-MODIFIED:20250213T193912Z
UID:1738-1740578400-1740583800@fabchurch.ca
SUMMARY:Seniors Coffee & Devotional
DESCRIPTION:
URL:https://fabchurch.ca/index.php/event/seniors-coffee-devotional-4/
END:VEVENT
BEGIN:VEVENT
DTSTART;TZID=America/Winnipeg:20250307T100000
DTEND;TZID=America/Winnipeg:20250307T160000
DTSTAMP:20260419T081647
CREATED:20250213T194147Z
LAST-MODIFIED:20250213T194147Z
UID:1743-1741341600-1741363200@fabchurch.ca
SUMMARY:MBCM Assembly in Morden
DESCRIPTION:
URL:https://fabchurch.ca/index.php/event/mbcm-assembly-in-morden/
END:VEVENT
BEGIN:VEVENT
DTSTART;TZID=America/Winnipeg:20250308T100000
DTEND;TZID=America/Winnipeg:20250308T160000
DTSTAMP:20260419T081647
CREATED:20250213T194219Z
LAST-MODIFIED:20250213T194219Z
UID:1745-1741428000-1741449600@fabchurch.ca
SUMMARY:MBCM Assembly in Morden
DESCRIPTION:
URL:https://fabchurch.ca/index.php/event/mbcm-assembly-in-morden-2/
END:VEVENT
BEGIN:VEVENT
DTSTART;TZID=America/Winnipeg:20250309T123000
DTEND;TZID=America/Winnipeg:20250309T143000
DTSTAMP:20260419T081647
CREATED:20250220T173801Z
LAST-MODIFIED:20250220T173801Z
UID:1752-1741523400-1741530600@fabchurch.ca
SUMMARY:Young Adults Lunch
DESCRIPTION:
URL:https://fabchurch.ca/index.php/event/young-adults-lunch-2/
END:VEVENT
BEGIN:VEVENT
DTSTART;TZID=America/Winnipeg:20250311T190000
DTEND;TZID=America/Winnipeg:20250311T203000
DTSTAMP:20260419T081647
CREATED:20250220T173824Z
LAST-MODIFIED:20250220T173824Z
UID:1754-1741719600-1741725000@fabchurch.ca
SUMMARY:Lead Team Ministry meets
DESCRIPTION:
URL:https://fabchurch.ca/index.php/event/lead-team-ministry-meets-10/
END:VEVENT
BEGIN:VEVENT
DTSTART;TZID=America/Winnipeg:20250318T190000
DTEND;TZID=America/Winnipeg:20250318T203000
DTSTAMP:20260419T081647
CREATED:20250220T173842Z
LAST-MODIFIED:20250220T173842Z
UID:1756-1742324400-1742329800@fabchurch.ca
SUMMARY:Worship Ministry Team meets
DESCRIPTION:
URL:https://fabchurch.ca/index.php/event/worship-ministry-team-meets-5/
END:VEVENT
BEGIN:VEVENT
DTSTART;TZID=America/Winnipeg:20250325T190000
DTEND;TZID=America/Winnipeg:20250325T210000
DTSTAMP:20260419T081647
CREATED:20250220T173938Z
LAST-MODIFIED:20250220T173938Z
UID:1758-1742929200-1742936400@fabchurch.ca
SUMMARY:Young Adults Bible Study & Fellowship at YFC
DESCRIPTION:
URL:https://fabchurch.ca/index.php/event/young-adults-bible-study-fellowship-at-yfc/
END:VEVENT
END:VCALENDAR