BEGIN:VCALENDAR
VERSION:2.0
PRODID:-//Fourth Avenue Bible Church - ECPv5.3.1.1//NONSGML v1.0//EN
CALSCALE:GREGORIAN
METHOD:PUBLISH
X-WR-CALNAME:Fourth Avenue Bible Church
X-ORIGINAL-URL:https://fabchurch.ca
X-WR-CALDESC:Events for Fourth Avenue Bible Church
BEGIN:VTIMEZONE
TZID:America/Winnipeg
BEGIN:DAYLIGHT
TZOFFSETFROM:-0600
TZOFFSETTO:-0500
TZNAME:CDT
DTSTART:20250309T080000
END:DAYLIGHT
BEGIN:STANDARD
TZOFFSETFROM:-0500
TZOFFSETTO:-0600
TZNAME:CST
DTSTART:20251102T070000
END:STANDARD
BEGIN:DAYLIGHT
TZOFFSETFROM:-0600
TZOFFSETTO:-0500
TZNAME:CDT
DTSTART:20260308T080000
END:DAYLIGHT
BEGIN:STANDARD
TZOFFSETFROM:-0500
TZOFFSETTO:-0600
TZNAME:CST
DTSTART:20261101T070000
END:STANDARD
END:VTIMEZONE
BEGIN:VEVENT
DTSTART;TZID=America/Winnipeg:20251203T190000
DTEND;TZID=America/Winnipeg:20251203T210000
DTSTAMP:20260419T075040
CREATED:20251103T215733Z
LAST-MODIFIED:20251103T215733Z
UID:2042-1764788400-1764795600@fabchurch.ca
SUMMARY:Jr Youth Bible Study & Games
DESCRIPTION:
URL:https://fabchurch.ca/index.php/event/jr-youth-bible-study-games-4/
END:VEVENT
BEGIN:VEVENT
DTSTART;TZID=America/Winnipeg:20251205T190000
DTEND;TZID=America/Winnipeg:20251205T220000
DTSTAMP:20260419T075040
CREATED:20251103T215816Z
LAST-MODIFIED:20251113T195845Z
UID:2044-1764961200-1764972000@fabchurch.ca
SUMMARY:Sr Youth Bible Study & Games
DESCRIPTION:
URL:https://fabchurch.ca/index.php/event/sr-youth-bible-study-games-4/
CATEGORIES:Sr. Youth
END:VEVENT
BEGIN:VEVENT
DTSTART;TZID=America/Winnipeg:20251207T093000
DTEND;TZID=America/Winnipeg:20251207T170000
DTSTAMP:20260419T075040
CREATED:20251110T221113Z
LAST-MODIFIED:20251110T221113Z
UID:2054-1765099800-1765126800@fabchurch.ca
SUMMARY:Giving Tree Due
DESCRIPTION:
URL:https://fabchurch.ca/index.php/event/giving-tree-due/
END:VEVENT
BEGIN:VEVENT
DTSTART;TZID=America/Winnipeg:20251210T190000
DTEND;TZID=America/Winnipeg:20251210T190000
DTSTAMP:20260419T075040
CREATED:20251110T221412Z
LAST-MODIFIED:20251113T195852Z
UID:2058-1765393200-1765393200@fabchurch.ca
SUMMARY:Jr Youth Christmas Party
DESCRIPTION:
URL:https://fabchurch.ca/index.php/event/jr-youth-christmas-party-2/
CATEGORIES:Jr. Youth
END:VEVENT
BEGIN:VEVENT
DTSTART;TZID=America/Winnipeg:20251212T190000
DTEND;TZID=America/Winnipeg:20251212T190000
DTSTAMP:20260419T075040
CREATED:20251110T221456Z
LAST-MODIFIED:20251113T195900Z
UID:2060-1765566000-1765566000@fabchurch.ca
SUMMARY:Sr Youth Christmas Party
DESCRIPTION:
URL:https://fabchurch.ca/index.php/event/sr-youth-christmas-party-2/
CATEGORIES:Sr. Youth
END:VEVENT
BEGIN:VEVENT
DTSTART;TZID=America/Winnipeg:20251214T104500
DTEND;TZID=America/Winnipeg:20251214T170000
DTSTAMP:20260419T075040
CREATED:20251110T221312Z
LAST-MODIFIED:20251110T221312Z
UID:2056-1765709100-1765731600@fabchurch.ca
SUMMARY:Adventure Kids Christmas Program
DESCRIPTION:
URL:https://fabchurch.ca/index.php/event/adventure-kids-christmas-program-3/
END:VEVENT
BEGIN:VEVENT
DTSTART;VALUE=DATE:20251224
DTEND;VALUE=DATE:20251227
DTSTAMP:20260419T075040
CREATED:20251217T215627Z
LAST-MODIFIED:20251217T215627Z
UID:2150-1766534400-1766793599@fabchurch.ca
SUMMARY:Office Closed
DESCRIPTION:
URL:https://fabchurch.ca/index.php/event/office-closed/
END:VEVENT
BEGIN:VEVENT
DTSTART;TZID=America/Winnipeg:20251224T180000
DTEND;TZID=America/Winnipeg:20251224T180000
DTSTAMP:20260419T075040
CREATED:20251110T221653Z
LAST-MODIFIED:20251110T221653Z
UID:2064-1766599200-1766599200@fabchurch.ca
SUMMARY:Christmas Eve Service
DESCRIPTION:
URL:https://fabchurch.ca/index.php/event/christmas-eve-service/
END:VEVENT
BEGIN:VEVENT
DTSTART;TZID=America/Winnipeg:20260101T080000
DTEND;TZID=America/Winnipeg:20260101T170000
DTSTAMP:20260419T075040
CREATED:20251217T215647Z
LAST-MODIFIED:20251217T215647Z
UID:2152-1767254400-1767286800@fabchurch.ca
SUMMARY:Office Closed
DESCRIPTION:
URL:https://fabchurch.ca/index.php/event/office-closed-2/
END:VEVENT
END:VCALENDAR